Workbook

Sheet 注意事項
A2: 【被扶養者認定申請添付資料の注意事項】
A3: ※必ずお読みください※
B5: 本書類は、「18歳未満の子」以外の家族について健康保険の被扶養者認定を申請する際に、被扶養者（異動）届に添付するものです。認定対象者の状況、認定日以降1年間の収入見込額および必要な提出書類を確認します。 収入基準は原則130万円未満です。ただし、※19歳以上23歳未満（被保険者の配偶者を除く）は150万円未満、60歳以上または障害厚生年金の受給要件に該当する程度の障がいがある方は180万円未満です。
B10: ※19歳以上23歳未満の年齢要件の判定については、所得税法上の取扱いと同様、その年の12月31日時点の年齢で判定いたします。 （注：年齢は民法上、誕生日の前日に加算されるため、誕生日が1月1日の方は12月31日において年齢が加算されることにご留意ください。）
B12: 注意：被扶養者の異動があった場合は、5日以内に届出が必要です。
B13: 証明書類の提出に時間がかかるときは、被扶養者異動届だけでも、事由発生日から5日以内に提出してください。（コピー・PDF可）
A15: ～～～ 共 通 必 要 書 類 ～～
A16: 1 | B16: 【必須】 住民票（認定対象者の世帯全員分・続柄記載有り・マイナンバー記載なし）
A17: 2 | B17: 認定対象者が18歳以上の学生の場合、在学証明書または学生証のコピー
A18: 3 | B18: 被保険者と認定対象者が別居の場合、送金証明及び仕送り申立書
A20: ～～～ 該当する場合の提出書類 ～～
A21: A. 収入がある
A22: ① | C22: 給与収入(パート・アルバイト含む) | P22: 雇用契約書(写)がない場合は、直近三ヶ月分の給与明細書(写) | AB22: 税金控除前の総支給金額(賞与、通勤費など含む)
A24: ② | C24: 各種年金、恩給収入 | P24: 直近の年金振込通知書(写) | AB24: 老齢、遺族、障がいなど、すべての公的年金、企業年金、個人年金も含む
A26: ③ | C26: 退職後・雇用保険の失業給付受給予定 | P26: 雇用保険受給資格者証(写) | AB26: 待機期間中は認定、受給中は原則認定不可
A27: ④ | C27: 健康保険の傷病手当金・出産手当金など | P27: 支給決定通知書(写) | AB27: 受給中は認定不可
A28: ⑤ | C28: 事業収入(自営業・農業など) | P28: 直近の確定申告書(写)・経費明細書(写) | AB28: 総収入額から直接経費など(税法上とは異なる)を差し引いた収入額
A29: ⑥ | C29: 不動産収入(土地・家屋・駐車場などの賃貸) | P29: 直近の確定申告書(写)・経費明細書(写)
A30: ⑦ | C30: 利子収入(預貯金や有価証券利子など) | P30: 直近の確定申告書(写)
A31: ⑧ | C31: 投資収入(株式配当金など) | P31: 直近の確定申告書(写)
A32: ⑨ | C32: 雑収入(年金以外の原稿料・印税・講演料など) | P32: 直近の確定申告書(写)・経費明細書(写)
A33: ⑩ | C33: その他収入 | P33: 事業所担当者へお問い合わせください。
A35: B. 収入がない
A36: ⑪ | C36: 退職後・雇用保険の失業給付受給しない。 | P36: 離職票Ⅰ・Ⅱ(写)または、退職時の源泉徴収票(写)や退職証明書(写)
A37: ⑫ | C37: 自営業を廃業した | P37: 廃業届（写）、または青色申告者は青色申告の取りやめ届出書（写）
A38: ⑬ | C38: 無収入 | P38: 直近の課税(非課税)証明書

Sheet 被扶養者認定申請添付資料
A1: 被扶養者認定申請添付資料
A3: 【収入見込被保険者記入用】
A4: 本書類は、「18歳未満の子」以外の家族を健康保険の扶養に入れる場合に、認定対象者の認定日以降1年間の収入見込額を確認するためのものです。収入基準は原則130万円未満です。ただし、19歳以上23歳未満（被保険者の配偶者を除く）は150万円未満、60歳以上または一定の障がいがある方は180万円未満です。
A7: 被扶養者になった日 | J7: 令和 | M7: 8 | P7: 年 | U7: 月 | Z7: 日
A8: 被保険者記号・番号 | J8: 記号 | P8: 番号
A9: 被保険者氏名
A10: 認定申請者 （扶養する家族） | J10: 氏名
J11: 年齢 | R11: 歳 | U11: 被保険者との関係
A13: 被扶養者認定日以降1年間の収入見込
A14: 記入方法：該当する収入をすべて「☑」にし、下の月別表には各収入を合算した見込額を月ごとに記入してください。
A15: ※黄色が申請者の記入欄です。
A16: A．収入がある場合（①～⑩）
A17: 該当 | C17: 収入の種類 | P17: 提出書類
A18: □ | C18: =注意事項!A22&" "&注意事項!C22 -> ① 給与収入(パート・アルバイト含む) | P18: =注意事項!P22 -> 雇用契約書(写)がない場合は、直近三ヶ月分の給与明細書(写)
A19: □ | C19: =注意事項!A24&" "&注意事項!C24 -> ② 各種年金、恩給収入 | P19: =注意事項!P24 -> 直近の年金振込通知書(写)
A20: □ | C20: =注意事項!A26&" "&注意事項!C26 -> ③ 退職後・雇用保険の失業給付受給予定 | P20: =注意事項!P26 -> 雇用保険受給資格者証(写)
A21: □ | C21: =注意事項!A27&" "&注意事項!C27 -> ④ 健康保険の傷病手当金・出産手当金など | P21: =注意事項!P27 -> 支給決定通知書(写)
A22: □ | C22: =注意事項!A28&" "&注意事項!C28 -> ⑤ 事業収入(自営業・農業など) | P22: =注意事項!P28 -> 直近の確定申告書(写)・経費明細書(写)
A23: □ | C23: =注意事項!A29&" "&注意事項!C29 -> ⑥ 不動産収入(土地・家屋・駐車場などの賃貸) | P23: =注意事項!P29 -> 直近の確定申告書(写)・経費明細書(写)
A24: □ | C24: =注意事項!A30&" "&注意事項!C30 -> ⑦ 利子収入(預貯金や有価証券利子など) | P24: =注意事項!P30 -> 直近の確定申告書(写)
A25: □ | C25: =注意事項!A31&" "&注意事項!C31 -> ⑧ 投資収入(株式配当金など) | P25: =注意事項!P31 -> 直近の確定申告書(写)
A26: □ | C26: =注意事項!A32&" "&注意事項!C32 -> ⑨ 雑収入(年金以外の原稿料・印税・講演料など) | P26: =注意事項!P32 -> 直近の確定申告書(写)・経費明細書(写)
A27: □ | C27: =注意事項!A33&" "&注意事項!C33 -> ⑩ その他収入 | P27: =注意事項!P33 -> 事業所担当者へお問い合わせください。
A28: 1年間の収入見込額 合計 | P28: =P36+P40 -> 0
A29: ※①～④は月別・賞与、⑤～⑨は確定申告書と照合する年分と年間見込額、⑩は金額と内容を記入してください。
A30: 月別収入見込（①から④をチェックした場合に記入）
A31: 認定開始年月 | G31: =DATE(2018+M7,R7,1) -> 45992 | P31: ※認定開始月から12か月分を表示します。黄色の欄へ合算額を入力してください。
A32: =IF($G$31="","",EDATE($G$31,0)) -> 45992 | J32: =IF($G$31="","",EDATE($G$31,4)) -> 46113 | S32: =IF($G$31="","",EDATE($G$31,8)) -> 46235 | AB32: 賞与1回目 | AG32: 月
A33: =IF($G$31="","",EDATE($G$31,1)) -> 46023 | J33: =IF($G$31="","",EDATE($G$31,5)) -> 46143 | S33: =IF($G$31="","",EDATE($G$31,9)) -> 46266 | AB33: 賞与2回目 | AG33: 月
A34: =IF($G$31="","",EDATE($G$31,2)) -> 46054 | J34: =IF($G$31="","",EDATE($G$31,6)) -> 46174 | S34: =IF($G$31="","",EDATE($G$31,10)) -> 46296 | AB34: ※①～④の月別見込額と賞与を記入
A35: =IF($G$31="","",EDATE($G$31,3)) -> 46082 | J35: =IF($G$31="","",EDATE($G$31,7)) -> 46204 | S35: =IF($G$31="","",EDATE($G$31,11)) -> 46327
A36: ①～④ 月別・賞与 合計 | P36: =SUM(E32:E35,N32:N35,W32:W35,AH32:AH33) -> 0
A37: 年次収入見込（⑤～⑩をチェックした場合に記入）
A38: ⑤～⑨ 上でチェックした収入の合計 | P38: 令和 | R38: =M7 -> 8 | U38: 年分 | AD38: ※本年分として申告予定の収入見込額
A39: =注意事項!A33&" "&注意事項!C33&"と内容" -> ⑩ その他収入と内容 | P39: ― | AD39: 内容
A40: ⑤～⑩ 年次収入 合計 | P40: =SUM(W38,W39) -> 0
A42: B．収入がない場合・収入がなくなった場合（⑪～⑬）
A43: 該当 | C43: 状況 | L43: 理由・廃業年月など | AA43: 提出書類
A44: □ | C44: =注意事項!A36&" "&注意事項!C36 -> ⑪ 退職後・雇用保険の失業給付受給しない。 | L44: 受給しない理由を記入 | AA44: =注意事項!P36 -> 離職票Ⅰ・Ⅱ(写)または、退職時の源泉徴収票(写)や退職証明書(写)
A45: □ | C45: =注意事項!A37&" "&注意事項!C37 -> ⑫ 自営業を廃業した | L45: 廃業年月を記入 | AA45: =注意事項!P37 -> 廃業届（写）、または青色申告者は青色申告の取りやめ届出書（写）
...

Sheet 被扶養者認定申請添付資料 (印字用)
A1: 被扶養者認定申請添付資料
A3: 【収入見込被保険者記入用】
A4: 本書類は、「18歳未満の子」以外の家族を健康保険の扶養に入れる場合に、認定対象者の認定日以降1年間の収入見込額を確認するためのものです。収入基準は原則130万円未満です。ただし、19歳以上23歳未満（被保険者の配偶者を除く）は150万円未満、60歳以上または一定の障がいがある方は180万円未満です。
A7: 申請年月日 | J7: 令和 | P7: 年 | U7: 月 | Z7: 日
A8: 被保険者記号・番号 | J8: 記号 | P8: 番号
A9: 被保険者氏名
A10: 認定申請者 （扶養する家族） | J10: 氏名
J11: 年齢 | R11: 歳 | U11: 被保険者との関係
A13: 被扶養者認定日以降1年間の収入見込
A14: 記入方法：該当する収入をすべて「☑」にし、下の月別表には各収入を合算した見込額を月ごとに記入してください。
A15: ※黄色が申請者の記入欄です。
A16: A．収入がある場合（1～10）
A17: 該当 | C17: 収入の種類 | P17: 提出書類
A18: □ | C18: =注意事項!A22&" "&注意事項!C22 -> ① 給与収入(パート・アルバイト含む) | P18: =注意事項!P22 -> 雇用契約書(写)がない場合は、直近三ヶ月分の給与明細書(写)
A19: □ | C19: =注意事項!A24&" "&注意事項!C24 -> ② 各種年金、恩給収入 | P19: =注意事項!P24 -> 直近の年金振込通知書(写)
A20: □ | C20: =注意事項!A26&" "&注意事項!C26 -> ③ 退職後・雇用保険の失業給付受給予定 | P20: =注意事項!P26 -> 雇用保険受給資格者証(写)
A21: □ | C21: =注意事項!A27&" "&注意事項!C27 -> ④ 健康保険の傷病手当金・出産手当金など | P21: =注意事項!P27 -> 支給決定通知書(写)
A22: □ | C22: =注意事項!A28&" "&注意事項!C28 -> ⑤ 事業収入(自営業・農業など) | P22: =注意事項!P28 -> 直近の確定申告書(写)・経費明細書(写)
A23: □ | C23: =注意事項!A29&" "&注意事項!C29 -> ⑥ 不動産収入(土地・家屋・駐車場などの賃貸) | P23: =注意事項!P29 -> 直近の確定申告書(写)・経費明細書(写)
A24: □ | C24: =注意事項!A30&" "&注意事項!C30 -> ⑦ 利子収入(預貯金や有価証券利子など) | P24: =注意事項!P30 -> 直近の確定申告書(写)
A25: □ | C25: =注意事項!A31&" "&注意事項!C31 -> ⑧ 投資収入(株式配当金など) | P25: =注意事項!P31 -> 直近の確定申告書(写)
A26: □ | C26: =注意事項!A32&" "&注意事項!C32 -> ⑨ 雑収入(年金以外の原稿料・印税・講演料など) | P26: =注意事項!P32 -> 直近の確定申告書(写)・経費明細書(写)
A27: □ | C27: =注意事項!A33&" "&注意事項!C33 -> ⑩ その他収入 | P27: =注意事項!P33 -> 事業所担当者へお問い合わせください。
A28: 1年間の収入見込額 合計 | P28: 円
A29: ※①～④は月別・賞与、⑤～⑨は確定申告書と照合する年分と年間見込額、⑩は金額と内容を記入してください。
A30: 月別収入見込（①から④をチェックした場合に記入）
A31: 認定開始年月 | G31: 令和 年 月 | P31: ※認定開始月から12か月分を表示します。黄色の欄へ合算額を入力してください。
A32: 年 月 | E32: 円 | J32: 年 月 | N32: 円 | S32: 年 月 | W32: 円 | AB32: 賞与1回目 | AG32: 月 | AH32: 円
A33: 年 月 | E33: 円 | J33: 年 月 | N33: 円 | S33: 年 月 | W33: 円 | AB33: 賞与2回目 | AG33: 月 | AH33: 円
A34: 年 月 | E34: 円 | J34: 年 月 | N34: 円 | S34: 年 月 | W34: 円 | AB34: ※①～④の月別見込額と賞与を記入
A35: 年 月 | E35: 円 | J35: 年 月 | N35: 円 | S35: 年 月 | W35: 円
A36: ①～④ 月別・賞与 合計 | P36: =SUM(E32:E35,N32:N35,W32:W35,AH32:AH33) -> 0
A37: 年次収入見込（⑤～⑩をチェックした場合に記入）
A38: ⑤～⑨ 上でチェックした収入の合計 | P38: 令和 | U38: 年分 | W38: 円 | AD38: ※本年分として申告予定の収入見込額
A39: =注意事項!A33&" "&注意事項!C33&"と内容" -> ⑩ その他収入と内容 | P39: ― | W39: 円 | AD39: 内容
A40: ⑤～⑩ 年次収入 合計 | P40: =SUM(W38,W39) -> 0
A42: B．収入がない場合・収入がなくなった場合（11～13）
A43: 該当 | C43: 状況 | L43: 理由・廃業年月など | AA43: 提出書類
A44: □ | C44: =注意事項!A36&" "&注意事項!C36 -> ⑪ 退職後・雇用保険の失業給付受給しない。 | L44: 受給しない理由を記入 | AA44: =注意事項!P36 -> 離職票Ⅰ・Ⅱ(写)または、退職時の源泉徴収票(写)や退職証明書(写)
A45: □ | C45: =注意事項!A37&" "&注意事項!C37 -> ⑫ 自営業を廃業した | L45: 廃業年月を記入 | AA45: =注意事項!P37 -> 廃業届（写）、または青色申告者は青色申告の取りやめ届出書（写）
...
